BEGIN:VCALENDAR
VERSION:2.0
PRODID:-//Pennsylvania&#039;s Education For All Coalition, Inc. - ECPv6.15.20//NONSGML v1.0//EN
CALSCALE:GREGORIAN
METHOD:PUBLISH
X-WR-CALNAME:Pennsylvania&#039;s Education For All Coalition, Inc.
X-ORIGINAL-URL:https://paedforall.org
X-WR-CALDESC:Events for Pennsylvania&#039;s Education For All Coalition, Inc.
REFRESH-INTERVAL;VALUE=DURATION:PT1H
X-Robots-Tag:noindex
X-PUBLISHED-TTL:PT1H
BEGIN:VTIMEZONE
TZID:America/New_York
BEGIN:DAYLIGHT
TZOFFSETFROM:-0500
TZOFFSETTO:-0400
TZNAME:EDT
DTSTART:20250309T070000
END:DAYLIGHT
BEGIN:STANDARD
TZOFFSETFROM:-0400
TZOFFSETTO:-0500
TZNAME:EST
DTSTART:20251102T060000
END:STANDARD
BEGIN:DAYLIGHT
TZOFFSETFROM:-0500
TZOFFSETTO:-0400
TZNAME:EDT
DTSTART:20260308T070000
END:DAYLIGHT
BEGIN:STANDARD
TZOFFSETFROM:-0400
TZOFFSETTO:-0500
TZNAME:EST
DTSTART:20261101T060000
END:STANDARD
BEGIN:DAYLIGHT
TZOFFSETFROM:-0500
TZOFFSETTO:-0400
TZNAME:EDT
DTSTART:20270314T070000
END:DAYLIGHT
BEGIN:STANDARD
TZOFFSETFROM:-0400
TZOFFSETTO:-0500
TZNAME:EST
DTSTART:20271107T060000
END:STANDARD
END:VTIMEZONE
BEGIN:VEVENT
DTSTART;TZID=America/New_York:20260919T180000
DTEND;TZID=America/New_York:20260919T220000
DTSTAMP:20260419T080135
CREATED:20240312T053943Z
LAST-MODIFIED:20260226T204451Z
UID:29320-1789840800-1789855200@paedforall.org
SUMMARY:PEAC's Cash Bingo Night
DESCRIPTION:PEAC’s Bingo Night fundraiser is back!  September 19\, 2026! Come and enjoy Bingo with family and friends. Reserve a table. Bring your own food and beverages. Basket raffles. 50-50’s and more!  Doors open at 6 p.m. \nBy participating in this fun Bingo Night\, more students with disabilities\, who have the right to learn the same things as their same-age friends\, to learn in the same classrooms. All children can learn! \nTickets sales are coming soon! SAVE THE DATE!
URL:https://paedforall.org/event/peacs-cash-bingo-night/
LOCATION:St. Frances Cabrini’s Monsignor Woods Hall\, 325 South Oxford Valley Road\, Fairless Hills\, PA\, 19030\, United States
CATEGORIES:FUN raising Event
END:VEVENT
END:VCALENDAR