BEGIN:VCALENDAR
VERSION:2.0
PRODID:-//Pennsylvania&#039;s Education For All Coalition, Inc. - ECPv6.15.20//NONSGML v1.0//EN
CALSCALE:GREGORIAN
METHOD:PUBLISH
X-WR-CALNAME:Pennsylvania&#039;s Education For All Coalition, Inc.
X-ORIGINAL-URL:https://paedforall.org
X-WR-CALDESC:Events for Pennsylvania&#039;s Education For All Coalition, Inc.
REFRESH-INTERVAL;VALUE=DURATION:PT1H
X-Robots-Tag:noindex
X-PUBLISHED-TTL:PT1H
BEGIN:VTIMEZONE
TZID:America/New_York
BEGIN:DAYLIGHT
TZOFFSETFROM:-0500
TZOFFSETTO:-0400
TZNAME:EDT
DTSTART:20210314T070000
END:DAYLIGHT
BEGIN:STANDARD
TZOFFSETFROM:-0400
TZOFFSETTO:-0500
TZNAME:EST
DTSTART:20211107T060000
END:STANDARD
BEGIN:DAYLIGHT
TZOFFSETFROM:-0500
TZOFFSETTO:-0400
TZNAME:EDT
DTSTART:20220313T070000
END:DAYLIGHT
BEGIN:STANDARD
TZOFFSETFROM:-0400
TZOFFSETTO:-0500
TZNAME:EST
DTSTART:20221106T060000
END:STANDARD
BEGIN:DAYLIGHT
TZOFFSETFROM:-0500
TZOFFSETTO:-0400
TZNAME:EDT
DTSTART:20230312T070000
END:DAYLIGHT
BEGIN:STANDARD
TZOFFSETFROM:-0400
TZOFFSETTO:-0500
TZNAME:EST
DTSTART:20231105T060000
END:STANDARD
END:VTIMEZONE
BEGIN:VEVENT
DTSTART;TZID=America/New_York:20220105T190000
DTEND;TZID=America/New_York:20220105T190000
DTSTAMP:20260419T200852
CREATED:20211229T170727Z
LAST-MODIFIED:20220107T020901Z
UID:28576-1641409200-1641409200@paedforall.org
SUMMARY:Why College? How did College Work for me?
DESCRIPTION:Did you know there are many opportunities in Pennsylvania for people with intellectual and developmental disabilities to attend college? In this program\, you can hear directly from some of these students! Learn about how college benefited them and hear about their plans for life beyond college \nThis is a virtual series co-hosted by the Special Education Alliance of Cheltenham {SEAC) and Pennsylvania’s Education For All Coalition {PEAC). \n  \nThis project\, the Higher Education Connection Program\, is supported in part by grant number 4100086672 from the US Administration for Community Living\, Department of Health and Human Services\, Washington\, DC 20201. \nGrantees undertaking projects with government sponsorship are encouraged to express freely their findings and conclusions. Points of view or opinions do not\, therefore\, necessarily represent official ACL policy. \n  \nRegister Now\n 
URL:https://paedforall.org/event/why-college-how-did-college-work-for-me/
LOCATION:🌎 Virtual Only via Zoom\, United States
ATTACH;FMTTYPE=image/jpeg:https://paedforall.org/wp-content/uploads/2021/12/College-Room.jpg
END:VEVENT
END:VCALENDAR