BEGIN:VCALENDAR
VERSION:2.0
PRODID:-//Pennsylvania&#039;s Education For All Coalition, Inc. - ECPv6.15.20//NONSGML v1.0//EN
CALSCALE:GREGORIAN
METHOD:PUBLISH
X-WR-CALNAME:Pennsylvania&#039;s Education For All Coalition, Inc.
X-ORIGINAL-URL:https://paedforall.org
X-WR-CALDESC:Events for Pennsylvania&#039;s Education For All Coalition, Inc.
REFRESH-INTERVAL;VALUE=DURATION:PT1H
X-Robots-Tag:noindex
X-PUBLISHED-TTL:PT1H
BEGIN:VTIMEZONE
TZID:America/New_York
BEGIN:DAYLIGHT
TZOFFSETFROM:-0500
TZOFFSETTO:-0400
TZNAME:EDT
DTSTART:20250309T070000
END:DAYLIGHT
BEGIN:STANDARD
TZOFFSETFROM:-0400
TZOFFSETTO:-0500
TZNAME:EST
DTSTART:20251102T060000
END:STANDARD
BEGIN:DAYLIGHT
TZOFFSETFROM:-0500
TZOFFSETTO:-0400
TZNAME:EDT
DTSTART:20260308T070000
END:DAYLIGHT
BEGIN:STANDARD
TZOFFSETFROM:-0400
TZOFFSETTO:-0500
TZNAME:EST
DTSTART:20261101T060000
END:STANDARD
BEGIN:DAYLIGHT
TZOFFSETFROM:-0500
TZOFFSETTO:-0400
TZNAME:EDT
DTSTART:20270314T070000
END:DAYLIGHT
BEGIN:STANDARD
TZOFFSETFROM:-0400
TZOFFSETTO:-0500
TZNAME:EST
DTSTART:20271107T060000
END:STANDARD
END:VTIMEZONE
BEGIN:VEVENT
DTSTART;TZID=America/New_York:20260321T130000
DTEND;TZID=America/New_York:20260321T150000
DTSTAMP:20260421T044700
CREATED:20250804T130011Z
LAST-MODIFIED:20260226T202018Z
UID:44818-1774098000-1774105200@paedforall.org
SUMMARY:IEP Clinic
DESCRIPTION:Free!! Virtual IEP Clinic!! \nClínica virtual de PEI\nSaturday\, March 21\, 2026\n21 de octubre\, 2026\nSessions begin at 1:00 p.m.\nLlegar 15 minutos antes de que comience la sesión.\n¡GRATIS! Abierto a todas las familias de PA.\nRegister to meet TWO IEP Leaders for 60 minutes and discuss concerns\, questions\, or just to review a student’s IEP.  Attend 15 minutes before the scheduled session.\nPrograme una sesión de 60 minutos con dos consultores expertos para abordar sus preguntas sobre el PEI de su hijo/a.  Los expertos están disponibles para hablar sobre temas como:\nTopics include inclusion\, goals\, transition\, assistive technology\, positive behavior plans\, evaluation and more.\nInclusión\, redacción de objetivos\, transición\, tecnología de asistencia\, apoyo conductual positivo\, evaluación y más.\n** IEP’s must be sent to PEAC before the IEP Clinic.\n** Obtenga consejos valiosos y una lista de próximos pasos.\nFirst-come\, first-served. Register Here Today!\nSe requiere registración previa. Cupo limitado.\nRegístrese hoy aqui!\nSe contactará a los inscritos para confirmar la hora de la cita y se les solicitará que envíen por correo electrónico el PEI antes del 8 de octubre de 2025 para compartirlo con los expertos.\n_IEP CLINIc Flyer March 2026.docx \n 
URL:https://paedforall.org/event/iep-clinic-2/
LOCATION:🌎 Virtual Only via Zoom\, United States
CATEGORIES:Learning
END:VEVENT
END:VCALENDAR